BEGIN:VCALENDAR
VERSION:2.0
PRODID:-//MANALA - ECPv6.15.20//NONSGML v1.0//EN
CALSCALE:GREGORIAN
METHOD:PUBLISH
X-WR-CALNAME:MANALA
X-ORIGINAL-URL:https://www.manala.fr
X-WR-CALDESC:Évènements pour MANALA
REFRESH-INTERVAL;VALUE=DURATION:PT1H
X-Robots-Tag:noindex
X-PUBLISHED-TTL:PT1H
BEGIN:VTIMEZONE
TZID:Europe/Paris
BEGIN:DAYLIGHT
TZOFFSETFROM:+0100
TZOFFSETTO:+0200
TZNAME:CEST
DTSTART:20250330T010000
END:DAYLIGHT
BEGIN:STANDARD
TZOFFSETFROM:+0200
TZOFFSETTO:+0100
TZNAME:CET
DTSTART:20251026T010000
END:STANDARD
BEGIN:DAYLIGHT
TZOFFSETFROM:+0100
TZOFFSETTO:+0200
TZNAME:CEST
DTSTART:20260329T010000
END:DAYLIGHT
BEGIN:STANDARD
TZOFFSETFROM:+0200
TZOFFSETTO:+0100
TZNAME:CET
DTSTART:20261025T010000
END:STANDARD
BEGIN:DAYLIGHT
TZOFFSETFROM:+0100
TZOFFSETTO:+0200
TZNAME:CEST
DTSTART:20270328T010000
END:DAYLIGHT
BEGIN:STANDARD
TZOFFSETFROM:+0200
TZOFFSETTO:+0100
TZNAME:CET
DTSTART:20271031T010000
END:STANDARD
END:VTIMEZONE
BEGIN:VEVENT
DTSTART;TZID=Europe/Paris:20260407T100000
DTEND;TZID=Europe/Paris:20260428T113000
DTSTAMP:20260425T004246
CREATED:20260202T113510Z
LAST-MODIFIED:20260202T113510Z
UID:3331-1775556000-1777375800@www.manala.fr
SUMMARY:Atelier Massage Bébé
DESCRIPTION:Atelier animé par Laura Van Royen\, Sage-femme et instructrice d’atelier massage parent bébé \nFormée par l’association française de massage bébé\, je vous propose un cycle de 4 séances de massage parent bébé d’une durée d’1h30 chacune. \nLe massage offre un espace de douceur\, de contact et de communication entre le parent et son bébé. \nL’objectif de ces séances est d’accompagner le développement sensoriel de votre bébé\, de soulager des maux du quotidien et de s’offrir un moment convivial entre jeunes parents. \nDestiné aux parents seuls ou en couple avec leur enfant de 1 à 12 mois. \nDates des séances :\nMardi 7 avril 2026 de 10h à 11h30\,\nMardi 14 avril 2026 de 10h à 11h30\,\nMardi 21 avril 2026 de 10h à 11h30\,\nMardi 28 avril 2026 de 10h à 11h30. \nLieu : \nMANALA
URL:https://www.manala.fr/event/atelier-massage-bebe-3/
LOCATION:Maison de Naissance Manala\, 23 avenue Louis Pasteur\, SELESTAT\, 67600
ATTACH;FMTTYPE=image/jpeg:https://www.manala.fr/wp-content/uploads/2025/10/massage-bebe.jpg
ORGANIZER;CN="Maison de naissance Manala":MAILTO:contact@manala.fr
END:VEVENT
BEGIN:VEVENT
DTSTART;TZID=Europe/Paris:20260427T183000
DTEND;TZID=Europe/Paris:20260427T200000
DTSTAMP:20260425T004246
CREATED:20251210T135957Z
LAST-MODIFIED:20251210T135957Z
UID:3240-1777314600-1777320000@www.manala.fr
SUMMARY:Atelier Hypnose Prénatale - Créer sa bulle
DESCRIPTION:Atelier animé par Roselyne WAGNER\, membre de l’Association\, hypnothérapeute spécialisée dans l’accompagnement des enfants / adolescents et des femmes depuis l’attente de la grossesse jusqu’à l’accouchement (et encore après). \nL’hypnose prénatale vous apporte des outils pour mieux vivre votre grossesse et votre accouchement. C’est une méthode simple et accessible à toutes les futures mamans. \nGrâce à un état d’attention focalisée qui favorise la communication intérieure\, cette technique aide à vivre la grossesse le plus sereinement possible et à vivre activement l’accouchement. Elle permet aux femmes de puiser en elle intuition et assurance personnelle afin de vivre pleinement et activement la naissance de leur enfant. \nAu cours des différents ateliers\, vous apprendrez à vous relaxer\, à communiquer avec votre bébé in utero et à intensifier le lien mère-enfant\, à surmonter le stress et les peurs\, à agir mentalement sur la perception des douleurs\, à renforcer votre assurance… Votre compagnon.ne est le.a bienvenu.e : cela lui permet de se familiariser avec la méthode et ainsi d’être pour vous un soutien actif le jour de l’accouchement. \n— \n!! Inscription obligatoire via la billetterie en ligne !! \n \n— \nPour toutes questions veuillez contacter l’intervenante :\nRoselyne Wagner\n06 80 48 87 78\ncontact@hypnoserstein.com
URL:https://www.manala.fr/event/atelier-hypnose-prenatale-creer-sa-bulle-2/
LOCATION:Maison de Naissance Manala\, 23 avenue Louis Pasteur\, SELESTAT\, 67600
ATTACH;FMTTYPE=image/jpeg:https://www.manala.fr/wp-content/uploads/2025/10/clay-banks-4F2eidt2ZSo-unsplash.jpg
ORGANIZER;CN="Maison de naissance Manala":MAILTO:contact@manala.fr
END:VEVENT
BEGIN:VEVENT
DTSTART;TZID=Europe/Paris:20260430T103000
DTEND;TZID=Europe/Paris:20260430T120000
DTSTAMP:20260425T004246
CREATED:20251223T104523Z
LAST-MODIFIED:20260306T113049Z
UID:3296-1777545000-1777550400@www.manala.fr
SUMMARY:Yoga postnatal
DESCRIPTION:Atelier animé par Camille Bouclier\, sage-femme et yogi confirmée\, formée au Yoga maternité\, inspiré de la méthode Gasquet. \nProfitez d’un moment de bien être destiné aux femmes en post-partum entre 1 et 6 mois après l’accouchement pour vivre l’instant présent\, poser son souffle\, accompagner les changements dans son corps en vue de retrouver un nouvel équilibre. \nJe vous propose un travail corporel et respiratoire avec des postures spécialement adaptées aux accouchées. \nCe cours est accessible sans expérience préalable\, idéal pour se réapproprier son corps\, le refermer\, soulager les tensions\, tout en engageant le périnée. \nIl s’agit d’un accompagnement en petit groupe. Les séances sont limitées à 4 femmes en post-partum. \nIl convient de prévoir 1h30 pour la séance (0h30 de temps d’accueil et d’échanges + 1h de travail corporel et respiratoire). \nJe vous invite à confier votre bébé pour profiter pleinement de la séance. Vous pouvez aussi venir accompagnée d’une personne qui pourra s’occuper de bébé le temps de la séance. \nPensez à amener une couverture pour la partie relaxation en musique. \n— \nPour toutes questions veuillez contacter l’intervenante : \nCamille Bouclier \ncamille.bouclier@sage-femme.fr \n—
URL:https://www.manala.fr/event/yoga-postnatal-3/
LOCATION:Maison de Naissance Manala\, 23 avenue Louis Pasteur\, SELESTAT\, 67600
ATTACH;FMTTYPE=image/jpeg:https://www.manala.fr/wp-content/uploads/2025/10/Yoga-postnatal-scaled.jpg
ORGANIZER;CN="Maison de naissance Manala":MAILTO:contact@manala.fr
END:VEVENT
END:VCALENDAR