BEGIN:VCALENDAR
VERSION:2.0
PRODID:-//MANALA - ECPv6.15.20//NONSGML v1.0//EN
CALSCALE:GREGORIAN
METHOD:PUBLISH
X-WR-CALNAME:MANALA
X-ORIGINAL-URL:https://www.manala.fr
X-WR-CALDESC:Évènements pour MANALA
REFRESH-INTERVAL;VALUE=DURATION:PT1H
X-Robots-Tag:noindex
X-PUBLISHED-TTL:PT1H
BEGIN:VTIMEZONE
TZID:Europe/Paris
BEGIN:DAYLIGHT
TZOFFSETFROM:+0100
TZOFFSETTO:+0200
TZNAME:CEST
DTSTART:20250330T010000
END:DAYLIGHT
BEGIN:STANDARD
TZOFFSETFROM:+0200
TZOFFSETTO:+0100
TZNAME:CET
DTSTART:20251026T010000
END:STANDARD
BEGIN:DAYLIGHT
TZOFFSETFROM:+0100
TZOFFSETTO:+0200
TZNAME:CEST
DTSTART:20260329T010000
END:DAYLIGHT
BEGIN:STANDARD
TZOFFSETFROM:+0200
TZOFFSETTO:+0100
TZNAME:CET
DTSTART:20261025T010000
END:STANDARD
BEGIN:DAYLIGHT
TZOFFSETFROM:+0100
TZOFFSETTO:+0200
TZNAME:CEST
DTSTART:20270328T010000
END:DAYLIGHT
BEGIN:STANDARD
TZOFFSETFROM:+0200
TZOFFSETTO:+0100
TZNAME:CET
DTSTART:20271031T010000
END:STANDARD
END:VTIMEZONE
BEGIN:VEVENT
DTSTART;TZID=Europe/Paris:20260307T160000
DTEND;TZID=Europe/Paris:20260307T173000
DTSTAMP:20260425T005841
CREATED:20251211T150829Z
LAST-MODIFIED:20251222T113248Z
UID:3247-1772899200-1772904600@www.manala.fr
SUMMARY:Cercle de papa
DESCRIPTION:Cercle animé par Aurélien de Cœur de papa \n  \nLe Cercle de papa est un espace d’échange et de partage entre pères\, futurs pères ou jeunes papas. \nUn moment privilégié pour parler sans tabou de la paternité\, du lien avec l’enfant\, du couple après l’arrivée d’un bébé et des questionnements qui émergent dans cette aventure. Une occasion de se sentir écouté\, soutenu et inspiré par d’autres hommes qui vivent cette même expérience. \nNous pourrons aborder des sujets relatifs à l’implication dans la grossesse et l’accouchement\, la place du père dans l’éducation\, l’équilibre entre vie de famille et personnelle. Chacun sera libre d’exprimer ses questionnements\, ses doutes\, ses joies. \nVous pouvez venir en solo ou accompagner d’un ami\, (prendre un billet par personne). \n  \nContact : Aurélien de Cœur de papa \ncoeurdepapa2.0@gmail.com \n06 21 73 07 04
URL:https://www.manala.fr/event/cercle-de-papa-5/
LOCATION:Maison de Naissance Manala\, 23 avenue Louis Pasteur\, SELESTAT\, 67600
ATTACH;FMTTYPE=image/jpeg:https://www.manala.fr/wp-content/uploads/2025/10/father-6648076_640.jpg
ORGANIZER;CN="Maison de naissance Manala":MAILTO:contact@manala.fr
END:VEVENT
BEGIN:VEVENT
DTSTART;TZID=Europe/Paris:20260309T140000
DTEND;TZID=Europe/Paris:20260309T153000
DTSTAMP:20260425T005841
CREATED:20251216T135344Z
LAST-MODIFIED:20251216T135344Z
UID:3273-1773064800-1773070200@www.manala.fr
SUMMARY:Portage bébé
DESCRIPTION:Atelier animé par Pauline SCHERER\, sage-femme de Manala. \nAtelier destiné à apprendre aux futurs et jeunes parents à porter leur bébé de manière physiologique. \n—\nPour toutes questions veuillez contacter l’intervenante :\nPauline SCHERER\nscherer.sagefemme@gmail.com\n—
URL:https://www.manala.fr/event/portage-bebe-3/
LOCATION:Maison de Naissance Manala\, 23 avenue Louis Pasteur\, SELESTAT\, 67600
ATTACH;FMTTYPE=image/jpeg:https://www.manala.fr/wp-content/uploads/2025/10/portage.jpg
ORGANIZER;CN="Maison de naissance Manala":MAILTO:contact@manala.fr
END:VEVENT
BEGIN:VEVENT
DTSTART;TZID=Europe/Paris:20260313T190000
DTEND;TZID=Europe/Paris:20260313T203000
DTSTAMP:20260425T005841
CREATED:20251210T090333Z
LAST-MODIFIED:20260218T113830Z
UID:3209-1773428400-1773433800@www.manala.fr
SUMMARY:Atelier Grandir avec les écrans
DESCRIPTION:Atelier animé par Marion Zirgel\, puéricultrice et accompagnante à la parentalité \nGrandir avec les écrans : accompagner nos enfants au quotidien \nCet atelier vous permettra de vous aider à mieux comprendre l’impact des écrans sur le développement de l’enfant et à mettre en place des règles équilibrées à la maison. \nPour toutes questions veuillez contacter l’intervenante : \nMarion Zirgel – 06 78 25 25 37 \nvospremierspas@sfr.fr
URL:https://www.manala.fr/event/atelier-grandir-avec-les-ecrans/
LOCATION:Maison de Naissance Manala\, 23 avenue Louis Pasteur\, SELESTAT\, 67600
ATTACH;FMTTYPE=image/jpeg:https://www.manala.fr/wp-content/uploads/2025/12/pexels-ron-lach-9786318-scaled.jpg
ORGANIZER;CN="Maison de naissance Manala":MAILTO:contact@manala.fr
END:VEVENT
BEGIN:VEVENT
DTSTART;TZID=Europe/Paris:20260316T140000
DTEND;TZID=Europe/Paris:20260316T153000
DTSTAMP:20260425T005841
CREATED:20251216T145634Z
LAST-MODIFIED:20251216T152023Z
UID:3284-1773669600-1773675000@www.manala.fr
SUMMARY:Atelier Perturbateurs endocriniens
DESCRIPTION:Atelier animé par Pauline SCHERER\, sage-femme. \nPerturbateurs endocriniens : quels gestes adopter pour limiter l’exposition ? \n  \nPour toutes questions veuillez contacter l’intervenante :\nPauline SCHERER\nscherer.sagefemme@gmail.com \n \n 
URL:https://www.manala.fr/event/atelier-perturbateurs-endocriniens-2/
LOCATION:Maison de Naissance Manala\, 23 avenue Louis Pasteur\, SELESTAT\, 67600
ORGANIZER;CN="Maison de naissance Manala":MAILTO:contact@manala.fr
END:VEVENT
BEGIN:VEVENT
DTSTART;TZID=Europe/Paris:20260319T103000
DTEND;TZID=Europe/Paris:20260319T120000
DTSTAMP:20260425T005841
CREATED:20251223T125421Z
LAST-MODIFIED:20251223T125421Z
UID:3308-1773916200-1773921600@www.manala.fr
SUMMARY:Yoga postnatal
DESCRIPTION:Atelier animé par Camille Bouclier\, sage-femme et yogi confirmée\, formée au Yoga maternité\, inspiré de la méthode Gasquet. \nProfitez d’un moment de bien être destiné aux femmes en post-partum entre 1 et 6 mois après l’accouchement pour vivre l’instant présent\, poser son souffle\, accompagner les changements dans son corps en vue de retrouver un nouvel équilibre. \nJe vous propose un travail corporel et respiratoire avec des postures spécialement adaptées aux accouchées. \nCe cours est accessible sans expérience préalable\, idéal pour se réapproprier son corps\, le refermer\, soulager les tensions\, tout en engageant le périnée. \nIl s’agit d’un accompagnement en petit groupe. Les séances sont limitées à 4 femmes en post-partum. \nIl convient de prévoir 1h30 pour la séance (0h30 de temps d’accueil et d’échanges + 1h de travail corporel et respiratoire). \nJe vous invite à confier votre bébé pour profiter pleinement de la séance. Vous pouvez aussi venir accompagnée d’une personne qui pourra s’occuper de bébé le temps de la séance. \nPensez à amener une couverture pour la partie relaxation en musique. \n— \nPour toutes questions veuillez contacter l’intervenante : \nCamille Bouclier \ncamille.bouclier@sage-femme.fr \n—
URL:https://www.manala.fr/event/yoga-postnatal-5/
LOCATION:Maison de Naissance Manala\, 23 avenue Louis Pasteur\, SELESTAT\, 67600
ATTACH;FMTTYPE=image/jpeg:https://www.manala.fr/wp-content/uploads/2025/10/Yoga-postnatal-scaled.jpg
ORGANIZER;CN="Maison de naissance Manala":MAILTO:contact@manala.fr
END:VEVENT
BEGIN:VEVENT
DTSTART;TZID=Europe/Paris:20260319T180000
DTEND;TZID=Europe/Paris:20260319T190000
DTSTAMP:20260425T005841
CREATED:20251210T134252Z
LAST-MODIFIED:20251210T135631Z
UID:3232-1773943200-1773946800@www.manala.fr
SUMMARY:Présentation de la Maison de Naissance Manala
DESCRIPTION:Réalisée par Camille Bouclier\, sage-femme Manala \nPrésentation et visite de la Maison de naissance Manala \nUn moment d’échange et de partage entre futurs parents. \nUne sage femme sera présente pour répondre aux questions des parents qui envisagent d’accueillir leur bébé dans ce lieu. \n8 participants/couples maximum \nGratuit sur inscription \nRenseignements complémentaires : contact@manala.fr – 09 72 56 32 84
URL:https://www.manala.fr/event/presentation-de-la-maison-de-naissance-manala-3/
LOCATION:Maison de Naissance Manala\, 23 avenue Louis Pasteur\, SELESTAT\, 67600
ATTACH;FMTTYPE=image/jpeg:https://www.manala.fr/wp-content/uploads/2025/10/Photo-entree-Manala-scaled.jpg
ORGANIZER;CN="Maison de naissance Manala":MAILTO:contact@manala.fr
END:VEVENT
BEGIN:VEVENT
DTSTART;TZID=Europe/Paris:20260324T183000
DTEND;TZID=Europe/Paris:20260324T200000
DTSTAMP:20260425T005841
CREATED:20251210T134649Z
LAST-MODIFIED:20251210T135703Z
UID:3236-1774377000-1774382400@www.manala.fr
SUMMARY:Atelier Hypnose Prénatale - Booster sa confiance
DESCRIPTION:Atelier animé par Roselyne WAGNER\, membre de l’Association\, hypnothérapeute spécialisée dans l’accompagnement des enfants / adolescents et des femmes depuis l’attente de la grossesse jusqu’à l’accouchement (et encore après). \nL’hypnose prénatale vous apporte des outils pour mieux vivre votre grossesse et votre accouchement. C’est une méthode simple et accessible à toutes les futures mamans. \nGrâce à un état d’attention focalisée qui favorise la communication intérieure\, cette technique aide à vivre la grossesse le plus sereinement possible et à vivre activement l’accouchement. Elle permet aux femmes de puiser en elle intuition et assurance personnelle afin de vivre pleinement et activement la naissance de leur enfant. \nAu cours des différents ateliers\, vous apprendrez à vous relaxer\, à communiquer avec votre bébé in utero et à intensifier le lien mère-enfant\, à surmonter le stress et les peurs\, à agir mentalement sur la perception des douleurs\, à renforcer votre assurance… Votre compagnon.ne est le.a bienvenu.e : cela lui permet de se familiariser avec la méthode et ainsi d’être pour vous un soutien actif le jour de l’accouchement. \n— \n!! Inscription obligatoire via la billetterie en ligne !! \n \n— \nPour toutes questions veuillez contacter l’intervenante :\nRoselyne Wagner\n06 80 48 87 78\ncontact@hypnoserstein.com
URL:https://www.manala.fr/event/atelier-hypnose-prenatale-booster-sa-confiance/
LOCATION:Maison de Naissance Manala\, 23 avenue Louis Pasteur\, SELESTAT\, 67600
ATTACH;FMTTYPE=image/jpeg:https://www.manala.fr/wp-content/uploads/2025/10/clay-banks-4F2eidt2ZSo-unsplash.jpg
ORGANIZER;CN="Maison de naissance Manala":MAILTO:contact@manala.fr
END:VEVENT
BEGIN:VEVENT
DTSTART;TZID=Europe/Paris:20260327T110000
DTEND;TZID=Europe/Paris:20260327T123000
DTSTAMP:20260425T005841
CREATED:20251210T135124Z
LAST-MODIFIED:20251215T130455Z
UID:3238-1774609200-1774614600@www.manala.fr
SUMMARY:Café papote autour de l'allaitement\, venez partager vos peines\, vos joies et vos interrogations.
DESCRIPTION:Atelier animé par Julie Beltzung\, sage-femme et consultante en lactation IBCLC \nOuvert aux futurs et jeunes parents\, thème libre en fonction des partages et des besoins. \nAu plaisir d’échanger avec vous \nContact : 06 30 81 25 31 Mail : julie.beltzung@sage-femme.fr
URL:https://www.manala.fr/event/allaitement-et-cie-cafe-papote-autour-de-lallaitement/
LOCATION:Maison de Naissance Manala\, 23 avenue Louis Pasteur\, SELESTAT\, 67600
ATTACH;FMTTYPE=image/jpeg:https://www.manala.fr/wp-content/uploads/2025/10/wes-hicks-Xg_LGdZVPe0-unsplash.jpg
ORGANIZER;CN="Maison de naissance Manala":MAILTO:contact@manala.fr
END:VEVENT
END:VCALENDAR