BEGIN:VCALENDAR
VERSION:2.0
PRODID:-//MANALA - ECPv6.15.20//NONSGML v1.0//EN
CALSCALE:GREGORIAN
METHOD:PUBLISH
X-WR-CALNAME:MANALA
X-ORIGINAL-URL:https://www.manala.fr
X-WR-CALDESC:Évènements pour MANALA
REFRESH-INTERVAL;VALUE=DURATION:PT1H
X-Robots-Tag:noindex
X-PUBLISHED-TTL:PT1H
BEGIN:VTIMEZONE
TZID:Europe/Paris
BEGIN:DAYLIGHT
TZOFFSETFROM:+0100
TZOFFSETTO:+0200
TZNAME:CEST
DTSTART:20240331T010000
END:DAYLIGHT
BEGIN:STANDARD
TZOFFSETFROM:+0200
TZOFFSETTO:+0100
TZNAME:CET
DTSTART:20241027T010000
END:STANDARD
BEGIN:DAYLIGHT
TZOFFSETFROM:+0100
TZOFFSETTO:+0200
TZNAME:CEST
DTSTART:20250330T010000
END:DAYLIGHT
BEGIN:STANDARD
TZOFFSETFROM:+0200
TZOFFSETTO:+0100
TZNAME:CET
DTSTART:20251026T010000
END:STANDARD
BEGIN:DAYLIGHT
TZOFFSETFROM:+0100
TZOFFSETTO:+0200
TZNAME:CEST
DTSTART:20260329T010000
END:DAYLIGHT
BEGIN:STANDARD
TZOFFSETFROM:+0200
TZOFFSETTO:+0100
TZNAME:CET
DTSTART:20261025T010000
END:STANDARD
END:VTIMEZONE
BEGIN:VEVENT
DTSTART;TZID=Europe/Paris:20251120T100000
DTEND;TZID=Europe/Paris:20251218T113000
DTSTAMP:20260425T053040
CREATED:20251024T080652Z
LAST-MODIFIED:20251024T080732Z
UID:3113-1763632800-1766057400@www.manala.fr
SUMMARY:Atelier Massage Bébé
DESCRIPTION:En tant que membre de l’association Manala\, je vous propose de se retrouver pour un atelier Massage Parents-Bébé de la naissance à 12 mois selon le programme de l’IAIM. \nDates cycle de novembre / décembre 2025 : les jeudis 20\, 27 novembre et 4\, 11 et 18 décembre 2025 à 10h à Manala \nLe massage bébé est l’art d’utiliser le toucher sain et nourrissant afin de communiquer avec son bébé pour lui montrer qu’il est aimé\, accueilli\, valorisé et respecté. \nIl permet également de prendre confiance dans ses compétences parentales. \nDéroulement : \nL’atelier comprend un temps de relaxation\, l’apprentissage des mouvements de massage (différentes parties du corps sont vues à chaque séance)\, la révision des mouvements et un temps d’échange. \nS’agissant de l’apprentissage\, les parents massent leur enfant et je leurs montre les mouvements sur un poupon. \nDurée : Cinq séances d’1h à 1h30 espacées d’une semaine. \nCadeaux pour les parents : les fiches explicatives avec les mouvements de massage + l’huile de massage. \nPensez à prévoir une tenue confortable\, une serviette\, une petite couverture et ce qu’il vous semble nécessaire pour le confort de votre enfant. \nAtelier animé par Marion Zirgel\, Instructrice d’atelier massage bébé-parent Certification par l’IAIM. \nPour toutes questions veuillez contacter l’intervenante :\nMarion Zirgel\n06 78 25 25 37\nvospremierspas@sfr.fr
URL:https://www.manala.fr/event/atelier-massage-bebe/
LOCATION:Maison de Naissance Manala\, 23 avenue Louis Pasteur\, SELESTAT\, 67600
ATTACH;FMTTYPE=image/jpeg:https://www.manala.fr/wp-content/uploads/2025/10/massage-bebe.jpg
ORGANIZER;CN="Maison de naissance Manala":MAILTO:contact@manala.fr
END:VEVENT
BEGIN:VEVENT
DTSTART;TZID=Europe/Paris:20251201T100000
DTEND;TZID=Europe/Paris:20251201T113000
DTSTAMP:20260425T053040
CREATED:20251024T082111Z
LAST-MODIFIED:20251024T082111Z
UID:3125-1764583200-1764588600@www.manala.fr
SUMMARY:Chant prénatal
DESCRIPTION:Le chant prénatal est un moment privilégié pour s’écouter\, exprimer ses émotions\, accueillir les sensations de son corps en plein changement et développer la confiance en ses propres ressources. \nLa voix offre à la future maman\, un moyen de trouver détente\, bien-être\, souffle et d’entrer en lien avec son bébé avant\, pendant et après l’accouchement. \nVous pouvez vous inscrire à une séance ou au cycle de 5 séances ce qui vous permettra de faire un tour assez global de la pratique. \nAtelier animé par Marie Kikou Guichaoua \nAnimatrice de chant prénatal \nmariekikou@laposte.net \n07 81 87 04 43
URL:https://www.manala.fr/event/chant-prenatal-3/
LOCATION:Maison de Naissance Manala\, 23 avenue Louis Pasteur\, SELESTAT\, 67600
ATTACH;FMTTYPE=image/jpeg:https://www.manala.fr/wp-content/uploads/2025/10/eduardo-barrios-y3AVilsv40Q-unsplash.jpg
ORGANIZER;CN="Maison de naissance Manala":MAILTO:contact@manala.fr
END:VEVENT
BEGIN:VEVENT
DTSTART;TZID=Europe/Paris:20251201T130000
DTEND;TZID=Europe/Paris:20251201T143000
DTSTAMP:20260425T053040
CREATED:20251024T082647Z
LAST-MODIFIED:20251024T082647Z
UID:3127-1764594000-1764599400@www.manala.fr
SUMMARY:Atelier Comprendre le sommeil de l’enfant (en visio)
DESCRIPTION:ATTENTION : ATELIER EN VISIO \n« Dormir comme un bébé »\, l’expression peut être mal choisie\, faire sourire\, si l’on croit les nombreux parents qui sont dans l’incompréhension ou se sentent démunis face au sommeil de leur bébé. Le « métier » de parent peut être difficile et culpabilisant mais le « métier » de l’enfant est loin d’être facile. Aujourd’hui on sait que les bébés ont des besoins qu’il est essentiel de respecter pour favoriser leur développement. Le sommeil est l’un de ces besoins. Cependant\, le sommeil du bébé est bien différent de celui de l’adulte. Il coïncide rarement à notre rythme de vie occidentale qui donne l’impression aux parents de devoir « régler » à tout prix et rapidement le sommeil de leur bébé. L’idée de cet atelier n’est pas de donner des recettes miracles mais des explications\, des éléments de compréhension sur le sommeil de bébé\, des informations et des outils pour vous accompagner dans la mise en place de rythmes sereins dans le respect de chacun. \n— \n!! Inscription obligatoire via la billetterie en ligne !! \n— \nAtelier animé par Joanne BREITNER\, Doula Alsace\, Eclore\n—\nPour toutes questions veuillez contacter l’intervenante :\nJoanne BREITNER\n06 89 64 93 92\njoanne.eclore@gmail.com\n—
URL:https://www.manala.fr/event/atelier-comprendre-le-sommeil-de-lenfant-en-visio/
LOCATION:Maison de Naissance Manala\, 23 avenue Louis Pasteur\, SELESTAT\, 67600
ATTACH;FMTTYPE=image/jpeg:https://www.manala.fr/wp-content/uploads/2025/10/sommeil_3.jpg
ORGANIZER;CN="Maison de naissance Manala":MAILTO:contact@manala.fr
END:VEVENT
BEGIN:VEVENT
DTSTART;TZID=Europe/Paris:20251202T103000
DTEND;TZID=Europe/Paris:20251202T120000
DTSTAMP:20260425T053040
CREATED:20251028T140934Z
LAST-MODIFIED:20251028T140934Z
UID:3171-1764671400-1764676800@www.manala.fr
SUMMARY:Yoga Prénatal
DESCRIPTION:Profitez d’un moment de bien être destiné aux femmes enceintes tout au long de la grossesse\, pour vivre l’instant présent\, poser son souffle\, accompagner les changements dans son corps et préparer de manière efficace et optimale le jour J. \nJe vous propose un travail corporel et respiratoire avec des postures et des positions spécialement adaptées aux femmes enceintes. \nCe cours est accessible sans expérience préalable\, idéal pour découvrir les bienfaits du yoga pendant la grossesse. \nIl s’agit d’un accompagnement en petit groupe. Les séances sont limitées à 5 futures mamans. \n  \nPensez à amener une couverture pour la partie relaxation en musique \n  \nAtelier animé par Camille Bouclier\, sage-femme et yogi confirmée\, formée au Yoga maternité\, inspiré de la méthode Gasquet. \n— \nPour toutes questions veuillez contacter l’intervenante : \nCamille Bouclier \ncamille.bouclier@sage-femme.fr \n— \n \n 
URL:https://www.manala.fr/event/yoga-prenatal-2/
LOCATION:Maison de Naissance Manala\, 23 avenue Louis Pasteur\, SELESTAT\, 67600
ATTACH;FMTTYPE=image/jpeg:https://www.manala.fr/wp-content/uploads/2025/10/yoga3-scaled.jpg
ORGANIZER;CN="Maison de naissance Manala":MAILTO:contact@manala.fr
END:VEVENT
BEGIN:VEVENT
DTSTART;TZID=Europe/Paris:20251208T140000
DTEND;TZID=Europe/Paris:20251208T150000
DTSTAMP:20260425T053040
CREATED:20251024T083241Z
LAST-MODIFIED:20251027T102600Z
UID:3130-1765202400-1765206000@www.manala.fr
SUMMARY:Atelier Portage Bébé
DESCRIPTION:Apprenez à porter votre bébé de manière physiologique. \nAtelier animé par Pauline SCHERER\, sage-femme de Manala\, destiné à apprendre aux futurs et jeunes parents à porter leur bébé de manière physiologique. \n—\nPour toutes questions veuillez contacter l’intervenante :\nPauline SCHERER\nscherer.sagefemme@gmail.com\n—
URL:https://www.manala.fr/event/atelier-portage-bebe/
LOCATION:Maison de Naissance Manala\, 23 avenue Louis Pasteur\, SELESTAT\, 67600
ATTACH;FMTTYPE=image/jpeg:https://www.manala.fr/wp-content/uploads/2025/10/portage.jpg
ORGANIZER;CN="Maison de naissance Manala":MAILTO:contact@manala.fr
END:VEVENT
BEGIN:VEVENT
DTSTART;TZID=Europe/Paris:20251208T190000
DTEND;TZID=Europe/Paris:20251208T200000
DTSTAMP:20260425T053040
CREATED:20251024T083848Z
LAST-MODIFIED:20251024T083848Z
UID:3133-1765220400-1765224000@www.manala.fr
SUMMARY:Atelier Fratrie
DESCRIPTION:Un bébé arrive… et votre aîné va devoir partager l’attention ! \nCet atelier vous montre comment transformer questionnements et inquiétude en curiosité et complicité. \nDécouvrez comment impliquer votre enfant dès la grossesse jusqu’après la naissance afin de le préparer à ce grand changement avec confiance et sérénité\, et créer des moments de partage uniques en famille. \nPrêt à faire de cette arrivée un vrai bonheur pour tous ? \nAtelier animé par Marion Zirgel\, puéricultrice et accompagnante à la parentalité \nPour toutes questions veuillez contacter l’intervenante : \nMarion Zirgel \n06 78 25 25 37 \nVospremierspas@sfr.fr
URL:https://www.manala.fr/event/atelier-fratrie/
LOCATION:Maison de Naissance Manala\, 23 avenue Louis Pasteur\, SELESTAT\, 67600
ATTACH;FMTTYPE=image/jpeg:https://www.manala.fr/wp-content/uploads/2025/10/fratrie_2.jpg
ORGANIZER;CN="Maison de naissance Manala":MAILTO:contact@manala.fr
END:VEVENT
BEGIN:VEVENT
DTSTART;TZID=Europe/Paris:20251209T103000
DTEND;TZID=Europe/Paris:20251209T120000
DTSTAMP:20260425T053040
CREATED:20251030T064915Z
LAST-MODIFIED:20251030T064915Z
UID:3176-1765276200-1765281600@www.manala.fr
SUMMARY:Yoga postnatal
DESCRIPTION:Profitez d’un moment de bien être destiné aux femmes en post-partum entre 1 et 6 mois après l’accouchement pour vivre l’instant présent\, poser son souffle\, accompagner les changements dans son corps en vue de retrouver un nouvel équilibre. \nJe vous propose un travail corporel et respiratoire avec des postures et des positions spécialement adaptées aux accouchées. \nCe cours est accessible sans expérience préalable\, idéal pour se réapproprier son corps\, le refermer\, soulager les tensions\, tout en engageant le périnée. \nIl s’agit d’un accompagnement en petit groupe. Les séances sont limitées à 5 femmes en post-partum. \n  \nPensez à amener une couverture pour la partie relaxation en musique. \n  \nAtelier animé par Camille Bouclier\, sage-femme et yogi confirmée\, formée au Yoga maternité\, inspiré de la méthode Gasquet. \n— \nPour toutes questions veuillez contacter l’intervenante : \nCamille Bouclier \ncamille.bouclier@sage-femme.fr \n—
URL:https://www.manala.fr/event/yoga-postnatal-2/
LOCATION:Maison de Naissance Manala\, 23 avenue Louis Pasteur\, SELESTAT\, 67600
ATTACH;FMTTYPE=image/jpeg:https://www.manala.fr/wp-content/uploads/2025/10/Yoga-postnatal-scaled.jpg
ORGANIZER;CN="Maison de naissance Manala":MAILTO:contact@manala.fr
END:VEVENT
BEGIN:VEVENT
DTSTART;TZID=Europe/Paris:20251212T103000
DTEND;TZID=Europe/Paris:20251212T113000
DTSTAMP:20260425T053040
CREATED:20251017T142157Z
LAST-MODIFIED:20251210T091015Z
UID:2999-1765535400-1765539000@www.manala.fr
SUMMARY:Echanges autour de l'allaitement
DESCRIPTION:Animé par Lauren Cipriani \nRencontre de soutien et d’échanges autour de l’allaitement\nVous êtes toutes les bienvenues\, \nCes ateliers d’échanges vous offrent un espace d’écoute et de soutien avec d’autres mères autour de l’allaitement\, vous n’êtes pas/plus seule dans cette aventure qui peut questionner\, faire douter et être source de bonheur aussi. \nChaque atelier est unique\, les échanges se font en fonction de vos envies\, questionnements dans un climat bienveillant\, sans jugement et une ambiance cocooning au sein de la maison de naissance. \nQuelques exemples de thèmes qui pourront être abordés: bien démarrer son allaitement\, le sommeil\, la reprise du travail\, la séparation\, la diversification alimentaire\, le sevrage\, l’allaitement d’un bambin… \nPartages d’expériences entre mères de bonnes pratiques et d’astuces. Écoute des difficultés rencontrées\, communiquer sur les soutiens possibles. \nPour les futures mamans préparer et être informées sur la mise en route de l’allaitement. \nEn somme offrir aux mères\, pères\, un espace de parole et d’échanges. \nAtelier destiné aux mamans enceintes\, les mamans allaitantes et aux co-parents. \nPour toutes questions veuillez contacter l’intervenante \nLauren Cipriani Tél : 06 08 46 15 81 bonjour@laurencipriani.com
URL:https://www.manala.fr/event/allaitement/
LOCATION:Maison de Naissance Manala\, 23 avenue Louis Pasteur\, SELESTAT\, 67600
ORGANIZER;CN="Maison de naissance Manala":MAILTO:contact@manala.fr
END:VEVENT
BEGIN:VEVENT
DTSTART;TZID=Europe/Paris:20251212T183000
DTEND;TZID=Europe/Paris:20251212T193000
DTSTAMP:20260425T053040
CREATED:20251024T084125Z
LAST-MODIFIED:20260316T111321Z
UID:3138-1765564200-1765567800@www.manala.fr
SUMMARY:Atelier Le développement de l’enfant et le choix du matériel
DESCRIPTION:Atelier animé par Ludivine GABILLAULT et Camille SCHNAEBELE\, Ergothérapeutes D.E. \n  \nPrésentation du matériel adapté\, non adapté et à proscrire en fonction du développement sensori-moteur et des activités de la vie quotidienne du bébé. \nA l’heure des réseaux sociaux et des publicités\, il est parfois difficile de savoir comment bien choisir le matériel adapté pour son tout-petit. \nNous serons présentes pour vous donner des idées de matériels préconisés\, vous indiquer pourquoi certains ne le sont pas\, et cela en fonction du développement sensori-moteur de l’enfant. \nNous avons hâte de vous rencontrer\, \nPour toutes questions veuillez contacter les intervenantes : \nLudivine GABILLAULT : 06 48 63 36 25 – ludivinegabillault@gmail.com \nCamille SCHNAEBELE : 06 45 36 30 88 – camille@ergo-hypno.com
URL:https://www.manala.fr/event/atelier-le-developpement-de-lenfant-et-le-choix-du-materiel/
LOCATION:Maison de Naissance Manala\, 23 avenue Louis Pasteur\, SELESTAT\, 67600
ATTACH;FMTTYPE=image/jpeg:https://www.manala.fr/wp-content/uploads/2025/10/priscilla-du-preez-mU6U3pFQHo0-unsplash.jpg
ORGANIZER;CN="Maison de naissance Manala":MAILTO:contact@manala.fr
END:VEVENT
BEGIN:VEVENT
DTSTART;TZID=Europe/Paris:20251213T100000
DTEND;TZID=Europe/Paris:20251213T113000
DTSTAMP:20260425T053040
CREATED:20251124T140021Z
LAST-MODIFIED:20251210T092902Z
UID:3191-1765620000-1765625400@www.manala.fr
SUMMARY:Café de Noël des parents
DESCRIPTION:Café des parents animé par Rebecca et Sofien\, ‘Parents’ Manala et membres de l’Association. \nVenez papoter de notre Association ou de sujets divers et variés \nNous vous proposons un moment convivial entre parents et futurs parents autour d’un café\, d’une tisane ou d’un thé. \nLes nouveaux adhérents de Manala sont les bienvenus. \nContact : Rebecca au 06 30 65 28 26
URL:https://www.manala.fr/event/cafe-des-parents-de-noel/
LOCATION:Maison de Naissance Manala\, 23 avenue Louis Pasteur\, SELESTAT\, 67600
ATTACH;FMTTYPE=image/jpeg:https://www.manala.fr/wp-content/uploads/2025/11/pexels-guvo59-34820080-scaled.jpg
ORGANIZER;CN="Maison de naissance Manala":MAILTO:contact@manala.fr
END:VEVENT
BEGIN:VEVENT
DTSTART;TZID=Europe/Paris:20251213T160000
DTEND;TZID=Europe/Paris:20251213T170000
DTSTAMP:20260425T053040
CREATED:20251027T102828Z
LAST-MODIFIED:20251210T093004Z
UID:3155-1765641600-1765645200@www.manala.fr
SUMMARY:Cercle de papa
DESCRIPTION:Cercle animé par Aurélien de Cœur de papa \n  \nLe Cercle de papa est un espace d’échange et de partage entre pères\, futurs pères ou jeunes papas. \nUn moment privilégié pour parler sans tabou de la paternité\, du lien avec l’enfant\, du couple après l’arrivée d’un bébé et des questionnements qui émergent dans cette aventure. Une occasion de se sentir écouté\, soutenu et inspiré par d’autres hommes qui vivent cette même expérience. \nNous pourrons aborder des sujets relatifs à l’implication dans la grossesse et l’accouchement\, la place du père dans l’éducation\, l’équilibre entre vie de famille et personnelle. Chacun sera libre d’exprimer ses questionnements\, ses doutes\, ses joies. \nVous pouvez venir en solo ou accompagner d’un ami\, (prendre un billet par personne). \n  \nContact : Aurélien de Cœur de papa \ncoeurdepapa2.0@gmail.com \n06 21 73 07 04
URL:https://www.manala.fr/event/cercle-de-papa-2/
LOCATION:Maison de Naissance Manala\, 23 avenue Louis Pasteur\, SELESTAT\, 67600
ATTACH;FMTTYPE=image/jpeg:https://www.manala.fr/wp-content/uploads/2025/10/father-6648076_640.jpg
ORGANIZER;CN="Maison de naissance Manala":MAILTO:contact@manala.fr
END:VEVENT
BEGIN:VEVENT
DTSTART;TZID=Europe/Paris:20251215T100000
DTEND;TZID=Europe/Paris:20251215T110000
DTSTAMP:20260425T053040
CREATED:20251027T103015Z
LAST-MODIFIED:20251210T093057Z
UID:3157-1765792800-1765796400@www.manala.fr
SUMMARY:Chant prénatal
DESCRIPTION:Atelier animé par Marie Kikou Guichaoua\, animatrice de chant prénatal \n  \nLe chant prénatal est un moment privilégié pour s’écouter\, exprimer ses émotions\, accueillir les sensations de son corps en plein changement et développer la confiance en ses propres ressources. \nLa voix offre à la future maman\, un moyen de trouver détente\, bien-être\, souffle et d’entrer en lien avec son bébé avant\, pendant et après l’accouchement. \nVous pouvez vous inscrire à une séance ou au cycle de 5 séances ce qui vous permettra de faire un tour assez global de la pratique. \nContact :  Marie Kikou Guichaoua \nmariekikou@laposte.net \n07 81 87 04 43
URL:https://www.manala.fr/event/chant-prenatal-4/
LOCATION:Maison de Naissance Manala\, 23 avenue Louis Pasteur\, SELESTAT\, 67600
ATTACH;FMTTYPE=image/jpeg:https://www.manala.fr/wp-content/uploads/2025/10/eduardo-barrios-y3AVilsv40Q-unsplash.jpg
ORGANIZER;CN="Maison de naissance Manala":MAILTO:contact@manala.fr
END:VEVENT
BEGIN:VEVENT
DTSTART;TZID=Europe/Paris:20251216T183000
DTEND;TZID=Europe/Paris:20251216T193000
DTSTAMP:20260425T053040
CREATED:20251023T133243Z
LAST-MODIFIED:20251210T093454Z
UID:3092-1765909800-1765913400@www.manala.fr
SUMMARY:Atelier Hypnose Prénatale - Apprivoiser la douleur
DESCRIPTION:Atelier animé par Roselyne WAGNER\, membre de l’Association\, hypnothérapeute spécialisée dans l’accompagnement des enfants / adolescents et des femmes depuis l’attente de la grossesse jusqu’à l’accouchement (et encore après). \n  \nThème de la séance : Apprivoiser la douleur \nL’hypnose prénatale vous apporte des outils pour mieux vivre votre grossesse et votre accouchement. C’est une méthode simple et accessible à toutes les futures mamans. \nGrâce à un état d’attention focalisée qui favorise la communication intérieure\, cette technique aide à vivre la grossesse le plus sereinement possible et à vivre activement l’accouchement. Elle permet aux femmes de puiser en elle intuition et assurance personnelle afin de vivre pleinement et activement la naissance de leur enfant. \nAu cours des différents ateliers\, vous apprendrez à vous relaxer\, à communiquer avec votre bébé in utero et à intensifier le lien mère-enfant\, à surmonter le stress et les peurs\, à agir mentalement sur la perception des douleurs\, à renforcer votre assurance… Votre compagnon.ne est le.a bienvenu.e : cela lui permet de se familiariser avec la méthode et ainsi d’être pour vous un soutien actif le jour de l’accouchement. \n— \n!! Inscription obligatoire via la billetterie en ligne !! \n— \nPour toutes questions veuillez contacter l’intervenante :\nRoselyne Wagner\n06 80 48 87 78\ncontact@hypnoserstein.com
URL:https://www.manala.fr/event/atelier-hypnose-prenatale-apprivoiser-la-douleur/
LOCATION:Maison de Naissance Manala\, 23 avenue Louis Pasteur\, SELESTAT\, 67600
ATTACH;FMTTYPE=image/jpeg:https://www.manala.fr/wp-content/uploads/2025/10/clay-banks-4F2eidt2ZSo-unsplash.jpg
ORGANIZER;CN="Maison de naissance Manala":MAILTO:contact@manala.fr
END:VEVENT
BEGIN:VEVENT
DTSTART;TZID=Europe/Paris:20251218T183000
DTEND;TZID=Europe/Paris:20251218T193000
DTSTAMP:20260425T053040
CREATED:20251028T105038Z
LAST-MODIFIED:20251210T134346Z
UID:3162-1766082600-1766086200@www.manala.fr
SUMMARY:Présentation de la Maison de Naissance MANALA
DESCRIPTION:Réalisée par Pauline Scherer\, sage-femme et présidente de Manala \nPrésentation et visite de la Maison de Naissance Manala. \nUn moment d’échange et de partage entre futurs parents. \nUne sage femme sera présente pour répondre aux questions des parents qui envisagent d’accueillir leur bébé dans ce lieu. \n8 participants/couples maximum \nGratuit sur inscription \nRenseignements complémentaires : contact@manala.fr – 09 72 56 32 84 \n 
URL:https://www.manala.fr/event/presentation-de-la-maison-de-naissance-manala/
LOCATION:Maison de Naissance Manala\, 23 avenue Louis Pasteur\, SELESTAT\, 67600
ATTACH;FMTTYPE=image/jpeg:https://www.manala.fr/wp-content/uploads/2025/10/Photo-entree-Manala-scaled.jpg
ORGANIZER;CN="Maison de naissance Manala":MAILTO:contact@manala.fr
END:VEVENT
END:VCALENDAR