BEGIN:VCALENDAR
VERSION:2.0
PRODID:-//MANALA - ECPv6.15.20//NONSGML v1.0//EN
CALSCALE:GREGORIAN
METHOD:PUBLISH
X-ORIGINAL-URL:https://www.manala.fr
X-WR-CALDESC:Évènements pour MANALA
REFRESH-INTERVAL;VALUE=DURATION:PT1H
X-Robots-Tag:noindex
X-PUBLISHED-TTL:PT1H
BEGIN:VTIMEZONE
TZID:Europe/Paris
BEGIN:DAYLIGHT
TZOFFSETFROM:+0100
TZOFFSETTO:+0200
TZNAME:CEST
DTSTART:20250330T010000
END:DAYLIGHT
BEGIN:STANDARD
TZOFFSETFROM:+0200
TZOFFSETTO:+0100
TZNAME:CET
DTSTART:20251026T010000
END:STANDARD
BEGIN:DAYLIGHT
TZOFFSETFROM:+0100
TZOFFSETTO:+0200
TZNAME:CEST
DTSTART:20260329T010000
END:DAYLIGHT
BEGIN:STANDARD
TZOFFSETFROM:+0200
TZOFFSETTO:+0100
TZNAME:CET
DTSTART:20261025T010000
END:STANDARD
BEGIN:DAYLIGHT
TZOFFSETFROM:+0100
TZOFFSETTO:+0200
TZNAME:CEST
DTSTART:20270328T010000
END:DAYLIGHT
BEGIN:STANDARD
TZOFFSETFROM:+0200
TZOFFSETTO:+0100
TZNAME:CET
DTSTART:20271031T010000
END:STANDARD
END:VTIMEZONE
BEGIN:VEVENT
DTSTART;TZID=Europe/Paris:20260618T103000
DTEND;TZID=Europe/Paris:20260618T120000
DTSTAMP:20260425T131059
CREATED:20260306T113756Z
LAST-MODIFIED:20260306T113756Z
UID:3358-1781778600-1781784000@www.manala.fr
SUMMARY:Yoga postnatal
DESCRIPTION:Atelier animé par Camille Bouclier\, sage-femme et yogi confirmée\, formée au Yoga maternité\, inspiré de la méthode Gasquet. \nProfitez d’un moment de bien être destiné aux femmes en post-partum entre 1 et 6 mois après l’accouchement pour vivre l’instant présent\, poser son souffle\, accompagner les changements dans son corps en vue de retrouver un nouvel équilibre. \nJe vous propose un travail corporel et respiratoire avec des postures spécialement adaptées aux accouchées. \nCe cours est accessible sans expérience préalable\, idéal pour se réapproprier son corps\, le refermer\, soulager les tensions\, tout en engageant le périnée. \nIl s’agit d’un accompagnement en petit groupe. Les séances sont limitées à 4 femmes en post-partum. \nIl convient de prévoir 1h30 pour la séance (0h30 de temps d’accueil et d’échanges + 1h de travail corporel et respiratoire). \nJe vous invite à confier votre bébé pour profiter pleinement de la séance. Vous pouvez aussi venir accompagnée d’une personne qui pourra s’occuper de bébé le temps de la séance. \nPensez à amener une couverture pour la partie relaxation en musique. \n— \nPour toutes questions veuillez contacter l’intervenante : \nCamille Bouclier \ncamille.bouclier@sage-femme.fr
URL:https://www.manala.fr/event/yoga-postnatal-6/
LOCATION:Maison de Naissance Manala\, 23 avenue Louis Pasteur\, SELESTAT\, 67600
ATTACH;FMTTYPE=image/jpeg:https://www.manala.fr/wp-content/uploads/2025/10/Yoga-postnatal-scaled.jpg
ORGANIZER;CN="Maison de naissance Manala":MAILTO:contact@manala.fr
END:VEVENT
END:VCALENDAR