BEGIN:VCALENDAR
VERSION:2.0
PRODID:-//MANALA - ECPv6.15.20//NONSGML v1.0//EN
CALSCALE:GREGORIAN
METHOD:PUBLISH
X-ORIGINAL-URL:https://www.manala.fr
X-WR-CALDESC:Évènements pour MANALA
REFRESH-INTERVAL;VALUE=DURATION:PT1H
X-Robots-Tag:noindex
X-PUBLISHED-TTL:PT1H
BEGIN:VTIMEZONE
TZID:Europe/Paris
BEGIN:DAYLIGHT
TZOFFSETFROM:+0100
TZOFFSETTO:+0200
TZNAME:CEST
DTSTART:20250330T010000
END:DAYLIGHT
BEGIN:STANDARD
TZOFFSETFROM:+0200
TZOFFSETTO:+0100
TZNAME:CET
DTSTART:20251026T010000
END:STANDARD
BEGIN:DAYLIGHT
TZOFFSETFROM:+0100
TZOFFSETTO:+0200
TZNAME:CEST
DTSTART:20260329T010000
END:DAYLIGHT
BEGIN:STANDARD
TZOFFSETFROM:+0200
TZOFFSETTO:+0100
TZNAME:CET
DTSTART:20261025T010000
END:STANDARD
BEGIN:DAYLIGHT
TZOFFSETFROM:+0100
TZOFFSETTO:+0200
TZNAME:CEST
DTSTART:20270328T010000
END:DAYLIGHT
BEGIN:STANDARD
TZOFFSETFROM:+0200
TZOFFSETTO:+0100
TZNAME:CET
DTSTART:20271031T010000
END:STANDARD
END:VTIMEZONE
BEGIN:VEVENT
DTSTART;TZID=Europe/Paris:20260505T100000
DTEND;TZID=Europe/Paris:20260526T113000
DTSTAMP:20260425T145753
CREATED:20251212T080825Z
LAST-MODIFIED:20260410T103659Z
UID:3255-1777975200-1779795000@www.manala.fr
SUMMARY:Atelier Massage Bébé
DESCRIPTION:Atelier animé par Laura Van Royen\, Sage-femme et instructrice d’atelier massage parent bébé \nFormée par l’association française de massage bébé\, je vous propose un cycle de 4 séances de massage parent bébé d’une durée d’1h30 chacune. \nLe massage offre un espace de douceur\, de contact et de communication entre le parent et son bébé. \nL’objectif de ces séances est d’accompagner le développement sensoriel de votre bébé\, de soulager des maux du quotidien et de s’offrir un moment convivial entre jeunes parents. \nDestiné aux parents seuls ou en couple avec leur enfant de 1 à 12 mois. \nDates des séances :\nMardi 5 mai 2026 de 10h à 11h30\, \nMardi 12 mai 2026 de 9h45 à 11h00\, \nMardi 19 mai 2026 de 10h à 11h30\,\nMardi 26 mai 2026 de 10h à 11h30. \nLieu : \nMANALA \n \nMerci de venir avec une petite couverture et votre huile de massage si vous le souhaitez (de l’huile sera à votre disposition).  \nPour toutes questions veuillez contacter l’intervenante : \nLaura Van Royen – 06 44 27 55 13 \nlvanroyen.sf@gmail.com
URL:https://www.manala.fr/event/atelier-massage-bebe-2/
LOCATION:Maison de Naissance Manala\, 23 avenue Louis Pasteur\, SELESTAT\, 67600
ATTACH;FMTTYPE=image/jpeg:https://www.manala.fr/wp-content/uploads/2025/10/massage-bebe.jpg
ORGANIZER;CN="Maison de naissance Manala":MAILTO:contact@manala.fr
END:VEVENT
BEGIN:VEVENT
DTSTART;TZID=Europe/Paris:20260521T103000
DTEND;TZID=Europe/Paris:20260521T120000
DTSTAMP:20260425T145753
CREATED:20251223T124748Z
LAST-MODIFIED:20260306T113351Z
UID:3300-1779359400-1779364800@www.manala.fr
SUMMARY:Yoga postnatal
DESCRIPTION:Atelier animé par Camille Bouclier\, sage-femme et yogi confirmée\, formée au Yoga maternité\, inspiré de la méthode Gasquet. \nProfitez d’un moment de bien être destiné aux femmes en post-partum entre 1 et 6 mois après l’accouchement pour vivre l’instant présent\, poser son souffle\, accompagner les changements dans son corps en vue de retrouver un nouvel équilibre. \nJe vous propose un travail corporel et respiratoire avec des postures spécialement adaptées aux accouchées. \nCe cours est accessible sans expérience préalable\, idéal pour se réapproprier son corps\, le refermer\, soulager les tensions\, tout en engageant le périnée. \nIl s’agit d’un accompagnement en petit groupe. Les séances sont limitées à 4 femmes en post-partum. \nIl convient de prévoir 1h30 pour la séance (0h30 de temps d’accueil et d’échanges + 1h de travail corporel et respiratoire). \nJe vous invite à confier votre bébé pour profiter pleinement de la séance. Vous pouvez aussi venir accompagnée d’une personne qui pourra s’occuper de bébé le temps de la séance. \nPensez à amener une couverture pour la partie relaxation en musique. \n— \nPour toutes questions veuillez contacter l’intervenante : \nCamille Bouclier \ncamille.bouclier@sage-femme.fr \n—
URL:https://www.manala.fr/event/yoga-postnatal-4/
LOCATION:Maison de Naissance Manala\, 23 avenue Louis Pasteur\, SELESTAT\, 67600
ATTACH;FMTTYPE=image/jpeg:https://www.manala.fr/wp-content/uploads/2025/10/Yoga-postnatal-scaled.jpg
ORGANIZER;CN="Maison de naissance Manala":MAILTO:contact@manala.fr
END:VEVENT
END:VCALENDAR