BEGIN:VCALENDAR
VERSION:2.0
PRODID:-//MANALA - ECPv6.15.20//NONSGML v1.0//EN
CALSCALE:GREGORIAN
METHOD:PUBLISH
X-WR-CALNAME:MANALA
X-ORIGINAL-URL:https://www.manala.fr
X-WR-CALDESC:Évènements pour MANALA
REFRESH-INTERVAL;VALUE=DURATION:PT1H
X-Robots-Tag:noindex
X-PUBLISHED-TTL:PT1H
BEGIN:VTIMEZONE
TZID:Europe/Paris
BEGIN:DAYLIGHT
TZOFFSETFROM:+0100
TZOFFSETTO:+0200
TZNAME:CEST
DTSTART:20250330T010000
END:DAYLIGHT
BEGIN:STANDARD
TZOFFSETFROM:+0200
TZOFFSETTO:+0100
TZNAME:CET
DTSTART:20251026T010000
END:STANDARD
BEGIN:DAYLIGHT
TZOFFSETFROM:+0100
TZOFFSETTO:+0200
TZNAME:CEST
DTSTART:20260329T010000
END:DAYLIGHT
BEGIN:STANDARD
TZOFFSETFROM:+0200
TZOFFSETTO:+0100
TZNAME:CET
DTSTART:20261025T010000
END:STANDARD
BEGIN:DAYLIGHT
TZOFFSETFROM:+0100
TZOFFSETTO:+0200
TZNAME:CEST
DTSTART:20270328T010000
END:DAYLIGHT
BEGIN:STANDARD
TZOFFSETFROM:+0200
TZOFFSETTO:+0100
TZNAME:CET
DTSTART:20271031T010000
END:STANDARD
END:VTIMEZONE
BEGIN:VEVENT
DTSTART;TZID=Europe/Paris:20260307T160000
DTEND;TZID=Europe/Paris:20260307T173000
DTSTAMP:20260425T023448
CREATED:20251211T150829Z
LAST-MODIFIED:20251222T113248Z
UID:3247-1772899200-1772904600@www.manala.fr
SUMMARY:Cercle de papa
DESCRIPTION:Cercle animé par Aurélien de Cœur de papa \n  \nLe Cercle de papa est un espace d’échange et de partage entre pères\, futurs pères ou jeunes papas. \nUn moment privilégié pour parler sans tabou de la paternité\, du lien avec l’enfant\, du couple après l’arrivée d’un bébé et des questionnements qui émergent dans cette aventure. Une occasion de se sentir écouté\, soutenu et inspiré par d’autres hommes qui vivent cette même expérience. \nNous pourrons aborder des sujets relatifs à l’implication dans la grossesse et l’accouchement\, la place du père dans l’éducation\, l’équilibre entre vie de famille et personnelle. Chacun sera libre d’exprimer ses questionnements\, ses doutes\, ses joies. \nVous pouvez venir en solo ou accompagner d’un ami\, (prendre un billet par personne). \n  \nContact : Aurélien de Cœur de papa \ncoeurdepapa2.0@gmail.com \n06 21 73 07 04
URL:https://www.manala.fr/event/cercle-de-papa-5/
LOCATION:Maison de Naissance Manala\, 23 avenue Louis Pasteur\, SELESTAT\, 67600
ATTACH;FMTTYPE=image/jpeg:https://www.manala.fr/wp-content/uploads/2025/10/father-6648076_640.jpg
ORGANIZER;CN="Maison de naissance Manala":MAILTO:contact@manala.fr
END:VEVENT
END:VCALENDAR